



BEGIN:VCALENDAR
VERSION:2.0
PRODID:-//CAASA //NONSGML Events //EN
CALSCALE:GREGORIAN
X-WR-CALNAME:CAASA
BEGIN:VTIMEZONE
TZID:America/New_York
LAST-MODIFIED:20050809T050000Z
BEGIN:STANDARD
DTSTART:20071104T020000
TZOFFSETFROM:-0400
TZOFFSETTO:-0500
TZNAME:EST
END:STANDARD
BEGIN:DAYLIGHT
DTSTART:20070311T020000
TZOFFSETFROM:-0500
TZOFFSETTO:-0400
TZNAME:EDT
END:DAYLIGHT
END:VTIMEZONE
BEGIN:VEVENT
CREATED:20200909T085105Z
UID:5231
DTEND;TZID=America/New_York:20190131T154500
DTSTART;TZID=America/New_York:20190131T143000
DTSTAMP:20260422T225207Z
LOCATION:
SUMMARY:Own your Anxiety: how to make anxiety work for you
URL;VALUE=URI:https://caasa.ca/archives/events/own-your-anxiety-how-to-make-anxiety-work-for-you
TRANSP:OPAQUE
END:VEVENT
END:VCALENDAR
