



BEGIN:VCALENDAR
VERSION:2.0
PRODID:-//CAASA //NONSGML Events //EN
CALSCALE:GREGORIAN
X-WR-CALNAME:CAASA
BEGIN:VTIMEZONE
TZID:America/New_York
LAST-MODIFIED:20050809T050000Z
BEGIN:STANDARD
DTSTART:20071104T020000
TZOFFSETFROM:-0400
TZOFFSETTO:-0500
TZNAME:EST
END:STANDARD
BEGIN:DAYLIGHT
DTSTART:20070311T020000
TZOFFSETFROM:-0500
TZOFFSETTO:-0400
TZNAME:EDT
END:DAYLIGHT
END:VTIMEZONE
BEGIN:VEVENT
CREATED:20200909T085105Z
UID:5189
DTEND;TZID=America/New_York:20190910T163000
DTSTART;TZID=America/New_York:20190910T133000
DTSTAMP:20260422T225435Z
LOCATION:
SUMMARY:Starting an Alternative Fund Series: Choosing Your Service Providers (Part 1)
URL;VALUE=URI:https://caasa.ca/archives/events/starting-an-alternative-fund-series-choosing-your-service-providers-part-1
TRANSP:OPAQUE
END:VEVENT
END:VCALENDAR
