



BEGIN:VCALENDAR
VERSION:2.0
PRODID:-//CAASA //NONSGML Events //EN
CALSCALE:GREGORIAN
X-WR-CALNAME:CAASA
BEGIN:VTIMEZONE
TZID:America/New_York
LAST-MODIFIED:20050809T050000Z
BEGIN:STANDARD
DTSTART:20071104T020000
TZOFFSETFROM:-0400
TZOFFSETTO:-0500
TZNAME:EST
END:STANDARD
BEGIN:DAYLIGHT
DTSTART:20070311T020000
TZOFFSETFROM:-0500
TZOFFSETTO:-0400
TZNAME:EDT
END:DAYLIGHT
END:VTIMEZONE
BEGIN:VEVENT
CREATED:20200909T125105Z
UID:23707
DTEND;TZID=America/New_York:20221129T190000
DTSTART;TZID=America/New_York:20221129T170000
DTSTAMP:20260423T002752Z
LOCATION:
SUMMARY:The Death of 60/40: Alternatives in 2022 and Beyond
URL;VALUE=URI:https://caasa.ca/archives/events/the-death-of-60-40-alternatives-in-2022-and-beyond
TRANSP:OPAQUE
END:VEVENT
END:VCALENDAR
