



BEGIN:VCALENDAR
VERSION:2.0
PRODID:-//CAASA //NONSGML Events //EN
CALSCALE:GREGORIAN
X-WR-CALNAME:CAASA
BEGIN:VTIMEZONE
TZID:America/New_York
LAST-MODIFIED:20050809T050000Z
BEGIN:STANDARD
DTSTART:20071104T020000
TZOFFSETFROM:-0400
TZOFFSETTO:-0500
TZNAME:EST
END:STANDARD
BEGIN:DAYLIGHT
DTSTART:20070311T020000
TZOFFSETFROM:-0500
TZOFFSETTO:-0400
TZNAME:EDT
END:DAYLIGHT
END:VTIMEZONE
BEGIN:VEVENT
CREATED:20210913T193108Z
UID:21245
DTEND;TZID=America/New_York:20230126T160000
DTSTART;TZID=America/New_York:20230126T100000
DTSTAMP:20260422T164708Z
LOCATION:795534 The Blue Mountains Clearview Townline<br />
The Blue Mountains\, ON L9Y 0R7
SUMMARY:Ski Day 2023 (Osler Bluff)
URL;VALUE=URI:https://caasa.ca/archives/events/ski-day-2023-osler-bluff
TRANSP:OPAQUE
END:VEVENT
END:VCALENDAR
